BEGIN:VCALENDAR
VERSION:2.0
PRODID:-//wp-events-plugin.com//7.1.7//EN
BEGIN:VEVENT
UID:19@lukasreiner.de
DTSTART:20260426T103000Z
DTEND:20260426T120000Z
DTSTAMP:20260420T121526Z
URL:https://lukasreiner.de/?event=lebensgeschichte-und-lieder
SUMMARY:Lebensgeschichte und Lieder
DESCRIPTION:Kommt gerne um 10:30 Uhr vorbei!
LOCATION:Hoyerswerda\, Ackerstraße 19\, Hoyerswerda\, 02977\, Deutschland
X-APPLE-STRUCTURED-LOCATION;VALUE=URI;X-ADDRESS=Ackerstraße 19\, Hoyerswer
 da\, 02977\, Deutschland;X-APPLE-RADIUS=100;X-TITLE=Hoyerswerda:geo:0,0
END:VEVENT
END:VCALENDAR