BEGIN:VCALENDAR
VERSION:2.0
PRODID:-//wp-events-plugin.com//7.1.7//EN
BEGIN:VEVENT
UID:17@lukasreiner.de
DTSTART;VALUE=DATE:20260605
DTEND;VALUE=DATE:20260607
DTSTAMP:20260414T141435Z
URL:https://lukasreiner.de/?event=1h-mission
SUMMARY:1H-Mission
DESCRIPTION:1-Hilfe | Erste Hilfe für die Seele — 1H-Mission\n\n\nWER IS
 T DABEI?\n\n 	WERDE LICHT\n 	STRASSENEVANGELISATION\n 	VIKTOR JANZEN\n 	SE
 ELENRETTER\n 	DER WEG\n 	LUKAS REINER\n\nJetzt anmelden: https://1h-missio
 n.de/
LOCATION:Bielefeld/Halle\, Halle\, Bielefeld\, Deutschland
X-APPLE-STRUCTURED-LOCATION;VALUE=URI;X-ADDRESS=Halle\, Bielefeld\, Deutsch
 land;X-APPLE-RADIUS=100;X-TITLE=Bielefeld/Halle:geo:0,0
END:VEVENT
END:VCALENDAR